BEGIN:VCALENDAR
VERSION:2.0
PRODID:DPCALENDAR
CALSCALE:GREGORIAN
BEGIN:VTIMEZONE
TZID:Europe/Berlin
X-MICROSOFT-CDO-TZID:4
BEGIN:STANDARD
DTSTART:20251026T010000
TZOFFSETFROM:+0200
TZOFFSETTO:+0100
TZNAME:CET
END:STANDARD
BEGIN:STANDARD
DTSTART:20261025T010000
TZOFFSETFROM:+0200
TZOFFSETTO:+0100
TZNAME:CET
END:STANDARD
BEGIN:DAYLIGHT
DTSTART:20260329T010000
TZOFFSETFROM:+0100
TZOFFSETTO:+0200
TZNAME:CEST
END:DAYLIGHT
END:VTIMEZONE
X-WR-TIMEZONE:Europe/Berlin
BEGIN:VEVENT
DTSTART;TZID=Europe/Berlin:20241206T190000
DTEND;TZID=Europe/Berlin:20241206T220000
UID:99168626-4A47-4AB7-82C7-01003052BFAA
SUMMARY:Villa-Stammtisch
CREATED:20241129T171528Z
DTSTAMP:20241129T171528Z
URL:https://www.onki.de/ueberuns/terminkalender/villa-stammtisch
DESCRIPTION:Monatlicher Stammtisch in der Villa Thermik
X-ALT-DESC;FMTTYPE=text/html:Monatlicher Stammtisch in der Villa Thermik
LAST-MODIFIED:20241129T171528Z
SEQUENCE:0
LOCATION:Bismarckstrasse 52\, 75323 Bad Wildbad\, Deutschland
GEO:48.75359465;8.55222000
X-LOCATION-DISPLAYNAME:Villa Thermik
X-ACCESS:1
X-HITS:1148
X-COLOR:3366cc
X-SHOW-END-TIME:0
END:VEVENT
BEGIN:VEVENT
DTSTART;TZID=Europe/Berlin:20241207T190000
DTEND;TZID=Europe/Berlin:20241207T200000
UID:3EA12FA0-2E62-4FD8-9CB8-7BC0DE651047
SUMMARY:Weihnachtsfeier
CREATED:20241129T170716Z
DTSTAMP:20241129T170716Z
URL:https://www.onki.de/ueberuns/terminkalender/weihnachtsfeier
DESCRIPTION:Weihnachtsfeier des Modellbauverein Bad Wildbad.
X-ALT-DESC;FMTTYPE=text/html:<p>Weihnachtsfeier des Modellbauverein Bad Wildbad.</p>
LAST-MODIFIED:20241129T171557Z
SEQUENCE:521
LOCATION:Freudenstädter Strasse\, 75323 Bad Wildbad\, Baden-Württemberg\, Deutschland
GEO:48.65906936;8.51267695
X-LOCATION-DISPLAYNAME:Schützenhaus Aichelberg
X-ACCESS:1
X-HITS:1149
X-COLOR:3366cc
X-SHOW-END-TIME:0
END:VEVENT
BEGIN:VEVENT
DTSTART;TZID=Europe/Berlin:20250214T190000
DTEND;TZID=Europe/Berlin:20250214T220000
UID:28F989BD-F71C-4D3D-8DE6-5BEE73C65BFF
SUMMARY:Jahreshauptversammlung
CREATED:20241219T200206Z
DTSTAMP:20241219T200206Z
URL:https://www.onki.de/ueberuns/terminkalender/jahreshauptversammlung
DESCRIPTION:Jahreshauptversammlung des MBV Bad Wildbad im Clubheim im Calmbach
X-ALT-DESC;FMTTYPE=text/html:<p>Jahreshauptversammlung des MBV Bad Wildbad im Clubheim im Calmbach</p>
LAST-MODIFIED:20241219T200358Z
SEQUENCE:112
LOCATION:Mörikestraße 16\, 75323 Bad Wildbad\, Baden-Württemberg\, Deutschland
GEO:48.78010819;8.57711971
X-LOCATION-DISPLAYNAME:Clubheim FC Calmbach
X-ACCESS:1
X-HITS:1397
X-COLOR:3366cc
X-SHOW-END-TIME:0
END:VEVENT
BEGIN:VEVENT
DTSTART;TZID=Europe/Berlin:20250329T110000
DTEND;TZID=Europe/Berlin:20250330T170000
UID:8DA317F7-97D5-4AF6-8249-1CD6B1ADEC07
SUMMARY:Modellausstellung
CREATED:20241129T171013Z
DTSTAMP:20241129T171013Z
URL:https://www.onki.de/ueberuns/terminkalender/modellausstellung
DESCRIPTION:Modellausstellung in der Calmbacher Enztalhalle
X-ALT-DESC;FMTTYPE=text/html:Modellausstellung in der Calmbacher Enztalhalle
LAST-MODIFIED:20241129T171013Z
SEQUENCE:0
LOCATION:Mörikestrasse 12\, 75323 Bad Wildbad\, Baden-Württemberg\, Deutschland
GEO:48.77966624;8.57571423
X-LOCATION-DISPLAYNAME:Enztalhalle Calmbach
X-ACCESS:1
X-HITS:1527
X-COLOR:3366cc
X-SHOW-END-TIME:1
END:VEVENT
BEGIN:VEVENT
DTSTART;TZID=Europe/Berlin:20250412T130000
DTEND;TZID=Europe/Berlin:20250412T140000
UID:9B475558-8DC0-433F-9354-A2B3DB058332
SUMMARY:Saison Opening
CREATED:20250409T094617Z
DTSTAMP:20250409T094617Z
URL:https://www.onki.de/ueberuns/terminkalender/saison-opening
DESCRIPTION:Wir starten offiziell die Flugsaison auf unserem Fluggelände.Im Anschluss gibt es etwas feines zu Essen.\NAnmeldung ist hierzu erforderlich
X-ALT-DESC;FMTTYPE=text/html:<p>Wir starten offiziell die Flugsaison auf unserem Fluggelände.<br />Im Anschluss gibt es etwas feines zu Essen.</p><p>Anmeldung ist hierzu erforderlich</p>
LAST-MODIFIED:20250409T094617Z
SEQUENCE:0
LOCATION:Kirchweg\, 75323 Bad Wildbad\, Baden-Württemberg\, Deutschland
GEO:48.66736378;8.51857781
X-LOCATION-DISPLAYNAME:Fluggelände Hausäcker
X-ACCESS:1
X-HITS:721
X-COLOR:3366cc
X-SHOW-END-TIME:0
END:VEVENT
BEGIN:VEVENT
DTSTART;TZID=Europe/Berlin:20250518T130000
DTEND;TZID=Europe/Berlin:20250518T140000
UID:26B2F301-8E0B-4769-A743-38A640E73563
SUMMARY:Elektro-Pokalfliegen
CREATED:20250515T094501Z
DTSTAMP:20250515T094501Z
URL:https://www.onki.de/ueberuns/terminkalender/elektro-pokalfliegen
DESCRIPTION:Elektropokalfliegen auf dem Fluggelände in Aichelberg.
X-ALT-DESC;FMTTYPE=text/html:<p>Elektropokalfliegen auf dem Fluggelände in Aichelberg.</p>
LAST-MODIFIED:20250515T094501Z
SEQUENCE:0
LOCATION:Kirchweg\, 75323 Bad Wildbad\, Baden-Württemberg\, Deutschland
GEO:48.66736378;8.51857781
X-LOCATION-DISPLAYNAME:Fluggelände Hausäcker
X-ACCESS:1
X-HITS:646
X-COLOR:3366cc
X-SHOW-END-TIME:0
END:VEVENT
BEGIN:VEVENT
DTSTART;VALUE=DATE:20250712
DTEND;VALUE=DATE:20250714
UID:9BD3AE23-3CD0-453E-8E1A-E3EB624E6C43
SUMMARY:Aichelberger Flugplatzfest
CREATED:20250107T131913Z
DTSTAMP:20250107T131913Z
URL:https://www.onki.de/ueberuns/terminkalender/aichelberger-flugplatzfest
DESCRIPTION:Das Aichelberger Flugplatzfest auf dem Fluggelände in Aichelberg ist das Highlight der Flugsaison für die Wildbader Modellpiloten.
X-ALT-DESC;FMTTYPE=text/html:<p>Das Aichelberger Flugplatzfest auf dem Fluggelände in Aichelberg ist das Highlight der Flugsaison für die Wildbader Modellpiloten.</p>
LAST-MODIFIED:20250107T131955Z
SEQUENCE:42
LOCATION:Kirchweg\, 75323 Bad Wildbad\, Baden-Württemberg\, Deutschland
GEO:48.66736378;8.51857781
X-LOCATION-DISPLAYNAME:Fluggelände Hausäcker
X-ACCESS:1
X-HITS:1630
X-COLOR:3366cc
X-SHOW-END-TIME:0
END:VEVENT
BEGIN:VEVENT
DTSTART;TZID=Europe/Berlin:20251011T140000
DTEND;TZID=Europe/Berlin:20251011T150000
UID:022DF272-8170-4C13-BD0A-6E5A657A47B0
SUMMARY:Saisonabschluss 2025
CREATED:20250515T094655Z
DTSTAMP:20250515T094655Z
URL:https://www.onki.de/ueberuns/terminkalender/saisonabschluss-2025
DESCRIPTION:Saisonabschlussfliegen mit anschließender kulinarischer Überraschung.
X-ALT-DESC;FMTTYPE=text/html:<p>Saisonabschlussfliegen mit anschließender kulinarischer Überraschung.</p>
LAST-MODIFIED:20250906T074034Z
SEQUENCE:9842019
LOCATION:Kirchweg\, 75323 Bad Wildbad\, Baden-Württemberg\, Deutschland
GEO:48.66736378;8.51857781
X-LOCATION-DISPLAYNAME:Fluggelände Hausäcker
X-ACCESS:1
X-HITS:1175
X-COLOR:3366cc
X-SHOW-END-TIME:0
END:VEVENT
BEGIN:VEVENT
DTSTART;TZID=Europe/Berlin:20260117T190000
DTEND;TZID=Europe/Berlin:20260117T233000
UID:2E0C0636-13ED-43A5-9405-2E21554B92FE
SUMMARY:Neujahrsfeier MBV
CREATED:20251027T142741Z
DTSTAMP:20251027T142741Z
URL:https://www.onki.de/ueberuns/terminkalender/neujahrsfeier-mbv
DESCRIPTION:Da es aus terminlichen Gründen keine Weihnachtsfeier in 2025 gegeben hat, feiern wir dieses mal das neue Jahr im Schützenhaus in Aichelberg.
X-ALT-DESC;FMTTYPE=text/html:<p>Da es aus terminlichen Gründen keine Weihnachtsfeier in 2025 gegeben hat, feiern wir dieses mal das neue Jahr im Schützenhaus in Aichelberg.</p>
LAST-MODIFIED:20251027T142741Z
SEQUENCE:0
LOCATION:Freudenstädter Strasse\, 75323 Bad Wildbad\, Baden-Württemberg\, Deutschland
GEO:48.65906936;8.51267695
X-LOCATION-DISPLAYNAME:Schützenhaus Aichelberg
X-ACCESS:1
X-HITS:583
X-COLOR:3366cc
X-SHOW-END-TIME:0
END:VEVENT
BEGIN:VEVENT
DTSTART;TZID=Europe/Berlin:20260306T190000
DTEND;TZID=Europe/Berlin:20260306T200000
UID:705B8F2C-AAAD-42FC-8A1C-398BB3629A55
SUMMARY:Villa-Stammtisch
CREATED:20260304T161345Z
DTSTAMP:20260304T161345Z
URL:https://www.onki.de/ueberuns/terminkalender/villa-stammtisch-2
DESCRIPTION:Gemütliches Beisammensein in der Villa Thermik.
X-ALT-DESC;FMTTYPE=text/html:<p>Gemütliches Beisammensein in der Villa Thermik.</p>
LAST-MODIFIED:20260304T161450Z
SEQUENCE:65
LOCATION:Bismarckstrasse 52\, 75323 Bad Wildbad\, Deutschland
GEO:48.75359465;8.55222000
X-LOCATION-DISPLAYNAME:Villa Thermik
X-ACCESS:1
X-HITS:132
X-COLOR:3366cc
X-SHOW-END-TIME:0
END:VEVENT
BEGIN:VEVENT
DTSTART;TZID=Europe/Berlin:20260411T130000
DTEND;TZID=Europe/Berlin:20260411T140000
UID:2D0EDEA8-F79F-4CCB-A109-D59D4CC203D0
SUMMARY:Saison Opening
CREATED:20260304T160834Z
DTSTAMP:20260304T160834Z
URL:https://www.onki.de/ueberuns/terminkalender/saison-opening-2
DESCRIPTION:Anfliegen mit anschließendem Essen ab ca.17 Uhr
X-ALT-DESC;FMTTYPE=text/html:<p>Anfliegen mit anschließendem Essen ab ca.17 Uhr</p>
LAST-MODIFIED:20260304T160834Z
SEQUENCE:0
LOCATION:Kirchweg\, 75323 Bad Wildbad\, Baden-Württemberg\, Deutschland
GEO:48.66736378;8.51857781
X-LOCATION-DISPLAYNAME:Fluggelände Hausäcker
X-ACCESS:1
X-HITS:212
X-COLOR:3366cc
X-SHOW-END-TIME:0
END:VEVENT
BEGIN:VEVENT
DTSTART;TZID=Europe/Berlin:20260614T130000
DTEND;TZID=Europe/Berlin:20260614T140000
UID:7FCC3967-4364-4B3A-A898-DE9AF56F7DC2
SUMMARY:Elektro-Pokalfliegen
CREATED:20260304T160945Z
DTSTAMP:20260304T160945Z
URL:https://www.onki.de/ueberuns/terminkalender/elektro-pokalfliegen-2
DESCRIPTION:Elektro-Pokalfliegen auf dem Fluggelände.
X-ALT-DESC;FMTTYPE=text/html:<p>Elektro-Pokalfliegen auf dem Fluggelände.</p>
LAST-MODIFIED:20260304T160945Z
SEQUENCE:0
LOCATION:Kirchweg\, 75323 Bad Wildbad\, Baden-Württemberg\, Deutschland
GEO:48.66736378;8.51857781
X-LOCATION-DISPLAYNAME:Fluggelände Hausäcker
X-ACCESS:1
X-HITS:204
X-COLOR:3366cc
X-SHOW-END-TIME:0
END:VEVENT
BEGIN:VEVENT
DTSTART;TZID=Europe/Berlin:20260718T130000
DTEND;TZID=Europe/Berlin:20260719T140000
UID:DEEC0ECF-5250-40F7-8BD3-8046184B1F50
SUMMARY:Freundschaftsfliegen
CREATED:20260304T161039Z
DTSTAMP:20260304T161039Z
URL:https://www.onki.de/ueberuns/terminkalender/freundschaftsfliegen
DESCRIPTION:Fliegen mit Freunden
X-ALT-DESC;FMTTYPE=text/html:<p>Fliegen mit Freunden</p>
LAST-MODIFIED:20260304T161039Z
SEQUENCE:0
LOCATION:Kirchweg\, 75323 Bad Wildbad\, Baden-Württemberg\, Deutschland
GEO:48.66736378;8.51857781
X-LOCATION-DISPLAYNAME:Fluggelände Hausäcker
X-ACCESS:1
X-HITS:228
X-COLOR:3366cc
X-SHOW-END-TIME:0
END:VEVENT
BEGIN:VEVENT
DTSTART;TZID=Europe/Berlin:20261010T130000
DTEND;TZID=Europe/Berlin:20261010T140000
UID:AA5A5962-C033-4529-90A8-F82873B7B24F
SUMMARY:Saisonabschluss
CREATED:20260304T161204Z
DTSTAMP:20260304T161204Z
URL:https://www.onki.de/ueberuns/terminkalender/saisonabschluss
DESCRIPTION:Abschlussfliegen mit anschließendem Essen ca. 17 Uhr
X-ALT-DESC;FMTTYPE=text/html:<p>Abschlussfliegen mit anschließendem Essen ca. 17 Uhr</p>
LAST-MODIFIED:20260304T161204Z
SEQUENCE:0
LOCATION:Kirchweg\, 75323 Bad Wildbad\, Baden-Württemberg\, Deutschland
GEO:48.66736378;8.51857781
X-LOCATION-DISPLAYNAME:Fluggelände Hausäcker
X-ACCESS:1
X-HITS:211
X-COLOR:3366cc
X-SHOW-END-TIME:0
END:VEVENT
END:VCALENDAR